BEGIN:VCALENDAR
VERSION:2.0
PRODID:-//Aka Academy - Corsi di aerografia e custom painting
CALSCALE:GREGORIAN
METHOD:PUBLISH
X-WR-CALNAME:Aka Academy - Corsi di aerografia e custom painting
X-ORIGINAL-URL:https://www.aka-academy.it/product/open-night-virtuale-21-ottobre-2025/
X-WR-CALDESC:OPEN NIGHT &#8220;VIRTUALE&#8221; &#8211; 21 OTTOBRE 2025
BEGIN:VEVENT
DTSTART;TZID=Europe/London:20251021T210000
DTEND;TZID=Europe/London:20251021T233000
SUMMARY:OPEN NIGHT “VIRTUALE” – 21 OTTOBRE 2025
DESCRIPTION:
URL:https://www.aka-academy.it/product/open-night-virtuale-21-ottobre-2025/
LOCATION:Via Monte Albenza 4 , Monza
END:VEVENT
END:VCALENDAR
