BEGIN:VCALENDAR
VERSION:2.0
PRODID:-//Aka Academy - Corsi di aerografia e custom painting
CALSCALE:GREGORIAN
METHOD:PUBLISH
X-WR-CALNAME:Aka Academy - Corsi di aerografia e custom painting
X-ORIGINAL-URL:https://www.aka-academy.it/product/corso-pinstriping-1-giorno-costo-complessivo-di-euro-290-00/
X-WR-CALDESC:Corso &#8220;PINSTRIPING&#8221; &#8211; 1 Giorno &#8211; Costo Complessivo di Euro 290.00
BEGIN:VEVENT
DTSTART;TZID=Europe/London:20230318T000000
DTEND;TZID=Europe/London:20230318T000000
SUMMARY:Corso “PINSTRIPING” – 1 Giorno – Costo Complessivo di Euro 290.00
DESCRIPTION:
URL:https://www.aka-academy.it/product/corso-pinstriping-1-giorno-costo-complessivo-di-euro-290-00/
LOCATION:VIA MONTE ALBENZA 4/6 - Monza
END:VEVENT
END:VCALENDAR
