BEGIN:VCALENDAR
VERSION:2.0
PRODID:-//Aka Academy - Corsi di aerografia e custom painting
CALSCALE:GREGORIAN
METHOD:PUBLISH
X-WR-CALNAME:Aka Academy - Corsi di aerografia e custom painting
X-ORIGINAL-URL:https://www.aka-academy.it/product/corso-base-di-aerografia-custom-painting-terza-giornata/
X-WR-CALDESC:Corso Base di AEROGRAFIA &#038; CUSTOM PAINTING &#8211; Terza Giornata
BEGIN:VEVENT
DTSTART;TZID=Europe/London:20230212T093000
DTEND;TZID=Europe/London:20230212T190000
SUMMARY:Corso Base di AEROGRAFIA & CUSTOM PAINTING – Terza Giornata
DESCRIPTION:
URL:https://www.aka-academy.it/product/corso-base-di-aerografia-custom-painting-terza-giornata/
LOCATION:Monza, via Monte Albenza, 6
END:VEVENT
END:VCALENDAR
