BEGIN:VCALENDAR
VERSION:2.0
PRODID:-//Aka Academy - Corsi di aerografia e custom painting
CALSCALE:GREGORIAN
METHOD:PUBLISH
X-WR-CALNAME:Aka Academy - Corsi di aerografia e custom painting
X-ORIGINAL-URL:https://www.aka-academy.it/product/live-performance-e-prova-gratuita/
X-WR-CALDESC:Live performance e prova gratuita
BEGIN:VEVENT
DTSTART;TZID=Europe/London:20220924T170000
DTEND;TZID=Europe/London:20220924T000000
SUMMARY:Live performance e prova gratuita
DESCRIPTION:
URL:https://www.aka-academy.it/product/live-performance-e-prova-gratuita/
LOCATION:sesto san giovanni, via sacco e vanzetti, 63
END:VEVENT
END:VCALENDAR
