BEGIN:VCALENDAR
VERSION:2.0
PRODID:-//Aka Academy - Corsi di aerografia e custom painting
CALSCALE:GREGORIAN
METHOD:PUBLISH
X-WR-CALNAME:Aka Academy - Corsi di aerografia e custom painting
X-ORIGINAL-URL:https://www.aka-academy.it/product/introduzione-all-aerografia-custom-painting-seconda-giornata-copia/
X-WR-CALDESC:Corso Intermedio di AEROGRAFIA &#038; CUSTOM PAINTING &#8211; Seconda Giornata
BEGIN:VEVENT
DTSTART;TZID=Europe/London:20221015T000000
DTEND;TZID=Europe/London:20221015T000000
SUMMARY:Corso Intermedio di AEROGRAFIA & CUSTOM PAINTING – Seconda Giornata
DESCRIPTION:
URL:https://www.aka-academy.it/product/introduzione-all-aerografia-custom-painting-seconda-giornata-copia/
LOCATION:Monza, via Monte Albenza, 6
END:VEVENT
END:VCALENDAR
